Workbook

Sheet Suppl. File S2

Sheet Instructions

Sheet Data
A1: TZIRATE ROCKS
A2: Strong | D2: silicic rocks | S2: silica-rich andesites | Y2: Granite 1 | Z2: Granite 2 | AA2: Granite 3 | AB2: Granite 4 | AC2: Granite 5
A3: SiO2 | D3: 63.52 | E3: 63.22 | F3: 63.52 | G3: 63.99 | H3: 64.95 | I3: 65.66 | J3: 64.18 | K3: 63.6 | L3: 69.76 | M3: 63.58 | N3: 64.06 | O3: 65.39 | P3: 63.95 | Q3: 64.23 | R3: 64.17 | S3: 62.32 | T3: 62.93 | U3: 62.28 | V3: 62.04 | W3: 62.49 | X3: 62.91 | Y3: 73.32 | Z3: 70.88 | AA3: 71 | AB3: 72.61 | AC3: 75.95
A4: Al2O3 | D4: 16.83 | E4: 16.53 | F4: 17.15 | G4: 16.44 | H4: 16 | I4: 16.03 | J4: 17.61 | K4: 16.23 | L4: 14.78 | M4: 17 | N4: 17.58 | O4: 16.73 | P4: 16.67 | Q4: 17.37 | R4: 17.66 | S4: 17.23 | T4: 16.96 | U4: 17.53 | V4: 16.09 | W4: 16.57 | X4: 16.2 | Y4: 13.48 | Z4: 14.27 | AA4: 14.83 | AB4: 14.98 | AC4: 13.51
A5: Fe2O3(T) | D5: 4.63 | E5: 4.91 | F5: 4.8 | G5: 4.38 | H5: 4.84 | I5: 4.12 | J5: 4.05 | K5: 5.29 | L5: 3.04 | M5: 4.37 | N5: 4.34 | O5: 3.91 | P5: 4.08 | Q5: 4.31 | R5: 4.31 | S5: 5.07 | T5: 4.8 | U5: 5.1 | V5: 5.64 | W5: 5.49 | X5: 6.21 | Y5: 2.18 | Z5: 3.05 | AA5: 2.07 | AB5: 2.06 | AC5: 0.52
A6: MnO | D6: 0.087 | E6: 0.084 | F6: 0.087 | G6: 0.079 | H6: 0.1 | I6: 0.069 | J6: 0.07 | K6: 0.096 | L6: 0.068 | M6: 0.07 | N6: 0.08 | O6: 0.08 | P6: 0.064 | R6: 0.077 | S6: 0.093 | T6: 0.083 | U6: 0.098 | V6: 0.09 | W6: 0.08 | X6: 0.1 | Y6: 0.03 | Z6: 0.05 | AA6: 0.06 | AB6: 0.06 | AC6: 0.03
A7: MgO | D7: 1.98 | E7: 2.3 | F7: 2.06 | G7: 1.94 | H7: 1.74 | I7: 1.8 | J7: 1.89 | K7: 1.6 | L7: 1.15 | M7: 1.39 | N7: 1.65 | O7: 1.76 | P7: 2.17 | R7: 1.91 | S7: 2.5 | T7: 2.25 | U7: 2.08 | W7: 3.04 | X7: 2.98 | Y7: 0.44 | Z7: 1.17 | AA7: 0.53 | AB7: 0.32 | AC7: 0.05
A8: CaO | D8: 4.77 | E8: 5.31 | F8: 5.08 | G8: 4.87 | H8: 4.41 | I8: 4.35 | J8: 4.71 | K8: 4.27 | L8: 3.08 | M8: 5.26 | N8: 4.74 | O8: 4.57 | P8: 5.34 | Q8: 4.08 | R8: 5.22 | S8: 5.65 | T8: 5.42 | U8: 5.14 | V8: 5.8 | W8: 5.74 | X8: 5.43 | Y8: 1.51 | Z8: 1.65 | AA8: 3.13 | AB8: 2.96 | AC8: 1.05
A9: Na2O | D9: 3.53 | E9: 3.56 | F9: 3.84 | G9: 3.7 | H9: 3.92 | I9: 3.68 | J9: 3.84 | K9: 3.78 | L9: 3.61 | M9: 4.08 | N9: 4.01 | O9: 3.85 | P9: 4.1 | Q9: 3.91 | R9: 4.27 | S9: 3.62 | T9: 3.37 | U9: 4.04 | V9: 3.84 | W9: 3.42 | X9: 3.79 | Y9: 2.82 | Z9: 4.18 | AA9: 4.13 | AB9: 4.75 | AC9: 3.9
A10: K2O | D10: 2.76 | E10: 2.37 | F10: 1.92 | G10: 2.77 | H10: 2.67 | I10: 2.63 | J10: 2.19 | K10: 3.1 | L10: 3.12 | M10: 1.75 | N10: 2 | O10: 2.44 | P10: 1.75 | Q10: 2 | R10: 1.74 | S10: 2.09 | T10: 2.63 | U10: 1.77 | V10: 1.82 | W10: 2.2 | X10: 2.04 | Y10: 5.78 | Z10: 3.64 | AA10: 2.38 | AB10: 1.63 | AC10: 4.74
A11: TiO2 | D11: 0.591 | E11: 0.667 | F11: 0.54 | G11: 0.659 | H11: 0.681 | I11: 0.553 | J11: 0.55 | L11: 0.365 | M11: 0.56 | N11: 0.53 | O11: 0.48 | P11: 0.57 | Q11: 0.5 | R11: 0.533 | S11: 0.558 | T11: 0.685 | U11: 0.586 | V11: 0.6 | W11: 0.61 | X11: 0.67 | Y11: 0.37 | Z11: 0.36 | AA11: 0.18 | AB11: 0.17 | AC11: 0.04
A12: P2O5 | D12: 0.16 | E12: 0.2 | F12: 0.14 | G12: 0.2 | H12: 0.28 | I12: 0.18 | J12: 0.14 | K12: 0.28 | L12: 0.09 | M12: 0.13 | N12: 0.15 | O12: 0.11 | P12: 0.13 | Q12: 0.14 | R12: 0.14 | S12: 0.14 | T12: 0.17 | U12: 0.13 | V12: 0.22 | W12: 0.16 | X12: 0.26 | Y12: 0.06 | Z12: 0.08 | AA12: 0.19 | AB12: 0.16 | AC12: 0.02
A13: Sc | D13: 10 | E13: 11 | F13: 11 | G13: 10 | H13: 10 | I13: 10 | J13: 9 | K13: 11 | L13: 6 | S13: 11 | T13: 11 | U13: 11 | Z13: 8.5 | AA13: 2.8 | AB13: 2.9 | AC13: 1.9
A14: Zr | D14: 162 | E14: 125 | F14: 98 | G14: 129 | H14: 187 | I14: 154 | J14: 142 | K14: 182 | S14: 93 | T14: 120 | U14: 85 | Y14: 249.9 | Z14: 153 | AA14: 102 | AB14: 107 | AC14: 45
A15: Th | D15: 4.53 | E15: 3.66 | F15: 2.86 | G15: 4.34 | H15: 4.73 | I15: 4.4 | J15: 5.16 | K15: 4.8 | L15: 5.57 | S15: 2.65 | T15: 3.45 | U15: 2.17 | Y15: 26.2 | Z15: 21.32 | AA15: 1.71 | AB15: 1.76 | AC15: 8.26
A16: U | D16: 1.39 | E16: 1.26 | F16: 1.13 | G16: 1.56 | H16: 1.59 | I16: 1.51 | J16: 1.35 | K16: 1.64 | L16: 2.07 | S16: 0.94 | T16: 1.17 | U16: 0.87 | Y16: 7.5 | Z16: 4.93 | AA16: 0.44 | AB16: 0.46 | AC16: 3.25
A17: Rb | D17: 68 | E17: 47 | F17: 37 | G17: 58 | H17: 71 | I17: 70 | J17: 30 | K17: 66 | L17: 70 | S17: 34 | T17: 49 | U17: 36 | Y17: 313 | Z17: 157.3 | AA17: 62.2 | AB17: 34 | AC17: 149.9
A18: Sr | D18: 427 | E18: 673 | F18: 662 | G18: 607 | H18: 433 | I18: 401 | J18: 465 | K18: 458 | L18: 350 | S18: 701 | T18: 703 | U18: 551 | Y18: 80.3 | Z18: 50 | AA18: 458 | AB18: 441 | AC18: 52
A19: Ba | D19: 830 | E19: 693 | F19: 560 | G19: 780 | H19: 899 | I19: 878 | J19: 943 | K19: 683 | L19: 679 | S19: 538 | T19: 668 | U19: 601 | Y19: 539.6 | Z19: 498 | AA19: 676 | AB19: 339 | AC19: 124
A20: Cs | D20: 2.5 | E20: 1.9 | F20: 0.8 | G20: 2.8 | H20: 1.5 | I20: 2.4 | J20: 0.8 | K20: 2.8 | L20: 3.6 | S20: 1.4 | T20: 2 | U20: 0.9 | Y20: 9.8 | Z20: 2.3 | AA20: 1.23 | AB20: 1.14 | AC20: 2.82
A21: La | D21: 26.5 | E21: 22.3 | F21: 19.7 | G21: 27.1 | H21: 32.7 | I21: 26.3 | J21: 27 | K21: 29.5 | L21: 21.3 | S21: 16.8 | T21: 25 | U21: 16.2 | Y21: 29.4 | Z21: 21.94 | AA21: 13.74 | AB21: 14.65 | AC21: 5.87
A22: Lu | D22: 0.223 | E22: 0.188 | F22: 0.199 | G22: 0.179 | H22: 0.265 | I22: 0.202 | J22: 0.17 | K22: 0.298 | S22: 0.176 | T22: 0.2 | U22: 0.168 | Y22: 0.4 | Z22: 0.28 | AA22: 0.13 | AB22: 0.14 | AC22: 0.31
A23: Hf | D23: 3.3 | E23: 3 | F23: 2.3 | G23: 2.8 | H23: 3.7 | I23: 3.3 | J23: 3.3 | K23: 3.7 | S23: 2.2 | T23: 2.7 | U23: 1.9 | Y23: 7.3 | Z23: 4.75 | AA23: 2.86 | AB23: 2.96 | AC23: 2.73
A24: Y | D24: 14.9 | E24: 12.9 | F24: 13.9 | G24: 13.3 | H24: 20.4 | I24: 17.8 | J24: 12.8 | K24: 21.6 | S24: 11.7 | T24: 13.6 | U24: 11.6 | Y24: 28.3 | Z24: 17.08 | AA24: 7.58 | AB24: 7.7 | AC24: 23.16
A25: Nb | E25: 5.6 | F25: 4 | G25: 6 | H25: 8.1 | I25: 5.6 | J25: 5.9 | L25: 5.6 | S25: 3.8 | T25: 5.3 | U25: 3.1 | Y25: 8.2 | Z25: 5.14 | AA25: 3.76 | AB25: 3.98 | AC25: 3.85
A26: Zn | D26: 62 | E26: 67 | F26: 67 | G26: 61 | H26: 75 | I26: 62 | J26: 62 | K26: 78 | L26: 49 | S26: 65 | T26: 66 | U26: 63 | Y26: 11.7 | Z26: 41 | AA26: 52 | AB26: 47 | AC26: 16
A27: Cu | D27: 13 | E27: 11 | F27: 19 | G27: 9 | H27: 16 | I27: 16 | J27: 12 | K27: 16 | S27: 16 | T27: 11 | U27: 20 | Y27: 27.9 | Z27: 26 | AA27: 18 | AB27: 7.3 | AC27: 22
A33: ZACAPU ROCKS
A34: Strong | D34: silicic rocks | R34: silica-rich andesites | BA34: Granite 1 | BB34: Granite 2 | BC34: Granite 3 | BD34: Granite 4 | BE34: Granite 5
A35: SiO2 | D35: 63.05 | E35: 64.46 | F35: 63.08 | G35: 63.23 | H35: 63.25 | I35: 64.13 | J35: 64.1 | K35: 64.1 | L35: 63.81 | M35: 64.46 | N35: 66.09 | O35: 64.85 | P35: 65.59 | Q35: 66.53 | R35: 62.62 | S35: 62.1 | T35: 61.02 | U35: 61.045 | W35: 61.82 | X35: 62.32 | Z35: 62.28 | AA35: 62 | AB35: 61.08 | AC35: 61.7 | AH35: 62.91 | AI35: 61.37 | AJ35: 61.23 | AM35: 61.85 | AN35: 62.62 | AO35: 61.24 | AP35: 62.1 | AQ35: 61.58 | AR35: 61.18 | AU35: 61.3 | AV35: 62.1 | AW35: 61.21 | AX35: 61.04 | AY35: 61.3 | AZ35: 61.04 | BA35: 73.32 | BB35: 70.88 | BC35: 71 | BD35: 72.61 | BE35: 75.95
A36: Al2O3 | D36: 17.38 | E36: 16.62 | F36: 16.84 | G36: 16.61 | H36: 16.2 | I36: 16.08 | J36: 16.06 | K36: 16.06 | L36: 15.97 | M36: 15.85 | N36: 16.51 | O36: 16 | P36: 15.89 | Q36: 15.9 | R36: 17 | S36: 17.79 | T36: 17.2 | U36: 17.972 | V36: 16.332 | W36: 17.73 | X36: 17.23 | Y36: 16.96 | Z36: 17.53 | AA36: 17.73 | AB36: 17.66 | AC36: 17.43 | AD36: 16.88 | AE36: 16.09 | AF36: 16.57 | AG36: 16.83 | AH36: 16.2 | AI36: 17.17 | AJ36: 17.68 | AK36: 16.4 | AL36: 16.97 | AM36: 17.26 | AN36: 17 | AO36: 18.25 | AP36: 17.79 | AQ36: 17.3 | AR36: 17.26 | AS36: 16.85 | AT36: 16.15 | AU36: 17.75 | AV36: 17.68 | AW36: 17.29 | AX36: 17.52 | AY36: 18.3 | AZ36: 17.52 | BA36: 13.48 | BB36: 14.27 | BC36: 14.83 | BD36: 14.98 | BE36: 13.51
A37: Fe2O3(T) | D37: 4.65 | E37: 5.43 | F37: 5.61 | G37: 5.5 | H37: 5.82 | I37: 5.74 | J37: 5.04 | K37: 5.04 | L37: 5.76 | M37: 3.97 | N37: 3.77 | O37: 4.77 | P37: 4.85 | Q37: 4.799 | R37: 4.47 | S37: 4.59 | T37: 5.21 | U37: 5.06 | V37: 7.4 | W37: 5.14 | X37: 5.07 | Y37: 4.8 | Z37: 5.1 | AA37: 4.99 | AB37: 5.27 | AC37: 5.06 | AD37: 5.39 | AE37: 5.64 | AF37: 5.49 | AG37: 5.75 | AH37: 6.21 | AI37: 5.07 | AJ37: 5.06 | AK37: 5.13 | AL37: 5.52 | AM37: 5.41 | AN37: 4.47 | AO37: 5.03 | AP37: 4.59 | AQ37: 5.3 | AR37: 5.53 | AS37: 5.76 | AT37: 5.74 | AU37: 5.49 | AV37: 5.17 | AW37: 5.77 | AY37: 5.08 | BA37: 2.18 | BB37: 3.05 | BC37: 2.07 | BD37: 2.06 | BE37: 0.52
A38: MnO | D38: 0.09 | E38: 0.096 | F38: 0.093 | G38: 0.092 | H38: 0.099 | I38: 0.084 | J38: 0.087 | K38: 0.087 | L38: 0.099 | M38: 0.095 | N38: 0.075 | O38: 0.087 | R38: 0.08 | S38: 0.093 | T38: 0.09 | U38: 0.097 | V38: 0.13 | W38: 0.09 | X38: 0.093 | Y38: 0.083 | Z38: 0.098 | AA38: 0.087 | AB38: 0.098 | AC38: 0.086 | AD38: 0.08 | AE38: 0.09 | AF38: 0.08 | AG38: 0.09 | AH38: 0.1 | AI38: 0.09 | AJ38: 0.088 | AK38: 0.09 | AL38: 0.096 | AM38: 0.093 | AN38: 0.08 | AO38: 0.094 | AP38: 0.093 | AQ38: 0.1 | AR38: 0.08 | AS38: 0.08 | AT38: 0.09 | AU38: 0.07 | AV38: 0.08 | AW38: 0.09 | AX38: 0.1 | AY38: 0.09 | AZ38: 0.1 | BA38: 0.03 | BB38: 0.05 | BC38: 0.06 | BD38: 0.06 | BE38: 0.03
A39: MgO | D39: 2.25 | E39: 2.82 | F39: 2.71 | G39: 3.06 | H39: 3.13 | I39: 2.94 | J39: 2.48 | K39: 2.48 | L39: 2.84 | M39: 1.06 | N39: 1.79 | O39: 2.5 | P39: 2.46 | Q39: 2.22 | R39: 2.44 | S39: 2.07 | T39: 2.39 | U39: 2.702 | V39: 1.444 | W39: 2.2 | X39: 2.5 | Y39: 2.25 | Z39: 2.08 | AA39: 2.52 | AB39: 2.7 | AC39: 2.57 | AD39: 2.88 | AE39: 3.88 | AF39: 3.04 | AG39: 3.11 | AH39: 2.98 | AI39: 3.2 | AJ39: 2.96 | AK39: 3.21 | AL39: 2.72 | AM39: 2.67 | AN39: 2.44 | AO39: 2.59 | AP39: 2.07 | AQ39: 3.38 | AR39: 3.3 | AS39: 2.5 | AT39: 2.74 | AU39: 2.74 | AV39: 2.52 | AW39: 2.8 | AX39: 2.9 | AY39: 2.41 | AZ39: 2.9 | BA39: 0.44 | BB39: 1.17 | BC39: 0.53 | BD39: 0.32 | BE39: 0.05
A40: CaO | D40: 5.32 | E40: 5.94 | F40: 5.66 | G40: 5.59 | H40: 5.64 | I40: 5.47 | J40: 4.69 | K40: 4.69 | L40: 5.46 | M40: 3.28 | N40: 4.3 | O40: 4.84 | P40: 4.75 | Q40: 4.56 | R40: 5.17 | S40: 5.94 | T40: 5.25 | U40: 5.8 | V40: 4.211 | W40: 5.56 | X40: 5.65 | Y40: 5.42 | Z40: 5.14 | AA40: 5.28 | AB40: 5.62 | AC40: 5.46 | AD40: 5.3 | AE40: 5.8 | AF40: 5.74 | AG40: 5.82 | AH40: 5.43 | AI40: 6.14 | AJ40: 6.38 | AK40: 5.65 | AL40: 5.63 | AM40: 5.76 | AN40: 5.17 | AO40: 5.89 | AP40: 5.94 | AQ40: 5.95 | AR40: 6.09 | AS40: 5.22 | AT40: 5.57 | AU40: 6.1 | AV40: 6.03 | AW40: 5.75 | AX40: 5.97 | AY40: 5.78 | AZ40: 5.97 | BA40: 1.51 | BB40: 1.65 | BC40: 3.13 | BD40: 2.96 | BE40: 1.05
A41: Na2O | D41: 3.96 | E41: 4.06 | F41: 3.81 | G41: 3.74 | H41: 3.9 | I41: 3.86 | J41: 3.99 | K41: 3.99 | L41: 3.99 | M41: 4.15 | N41: 4.3 | O41: 3.76 | P41: 3.77 | Q41: 3.86 | R41: 3.62 | S41: 3.98 | T41: 3.8 | U41: 3.687 | V41: 4.505 | W41: 3.39 | X41: 3.62 | Y41: 3.37 | Z41: 4.04 | AA41: 3.82 | AB41: 3.76 | AC41: 3.76 | AD41: 3.11 | AE41: 3.84 | AF41: 3.42 | AG41: 3.67 | AH41: 3.79 | AI41: 3.89 | AJ41: 3.81 | AK41: 3.47 | AL41: 4.03 | AM41: 3.99 | AN41: 3.62 | AO41: 3.88 | AP41: 3.98 | AQ41: 3.91 | AR41: 4.52 | AS41: 3.98 | AT41: 3.76 | AU41: 4 | AV41: 4.13 | AW41: 4.06 | AX41: 4.23 | AY41: 4.6 | AZ41: 4.23 | BA41: 2.82 | BB41: 4.18 | BC41: 4.13 | BD41: 4.75 | BE41: 3.9
A42: K2O | D42: 1.92 | E42: 1.77 | F42: 1.98 | G42: 1.93 | H42: 1.98 | I42: 1.94 | J42: 2.32 | K42: 2.32 | L42: 2.09 | M42: 3.15 | N42: 3.76 | O42: 2.31 | P42: 2.27 | Q42: 2.38 | R42: 2.54 | S42: 1.56 | T42: 2.01 | U42: 2.05 | V42: 2.928 | W42: 2.36 | X42: 2.09 | Y42: 2.63 | Z42: 1.77 | AA42: 1.99 | AB42: 1.86 | AC42: 1.92 | AD42: 2.12 | AE42: 1.82 | AF42: 2.2 | AG42: 2.13 | AH42: 2.04 | AI42: 1.9 | AJ42: 1.71 | AK42: 2.4 | AL42: 1.88 | AM42: 1.87 | AN42: 2.54 | AO42: 1.7 | AP42: 1.56 | AQ42: 1.7 | AR42: 1.58 | AS42: 1.95 | AT42: 2.17 | AU42: 1.59 | AV42: 1.54 | AW42: 1.84 | AX42: 1.7 | AY42: 1.56 | AZ42: 1.7 | BA42: 5.78 | BB42: 3.64 | BC42: 2.38 | BD42: 1.63 | BE42: 4.74
A43: TiO2 | D43: 0.562 | E43: 0.674 | F43: 0.669 | G43: 0.627 | H43: 0.685 | I43: 0.647 | J43: 0.601 | K43: 0.601 | L43: 0.699 | M43: 0.641 | N43: 0.46 | O43: 0.553 | P43: 0.55 | Q43: 0.53 | R43: 0.704 | S43: 0.719 | T43: 0.68 | U43: 0.818 | V43: 1.085 | W43: 0.656 | X43: 0.558 | Y43: 0.685 | Z43: 0.586 | AA43: 0.724 | AB43: 0.609 | AC43: 0.72 | AD43: 0.66 | AE43: 0.6 | AF43: 0.61 | AG43: 0.77 | AH43: 0.67 | AI43: 0.66 | AJ43: 0.703 | AK43: 0.714 | AL43: 0.773 | AM43: 0.771 | AN43: 0.704 | AO43: 0.634 | AP43: 0.719 | AQ43: 0.76 | AR43: 0.69 | AS43: 0.77 | AT43: 0.76 | AU43: 0.67 | AV43: 0.63 | AW43: 0.76 | AY43: 0.68 | BA43: 0.37 | BB43: 0.36 | BC43: 0.18 | BD43: 0.17 | BE43: 0.04
A44: P2O5 | D44: 0.13 | E44: 0.19 | F44: 0.22 | G44: 0.19 | H44: 0.25 | I44: 0.2 | J44: 0.22 | K44: 0.22 | L44: 0.24 | M44: 0.22 | N44: 0.13 | O44: 0.19 | P44: 0.18 | Q44: 0.16 | R44: 0.21 | S44: 0.19 | T44: 0.18 | U44: 0.224 | V44: 0.481 | W44: 0.17 | X44: 0.14 | Y44: 0.17 | Z44: 0.13 | AA44: 0.19 | AB44: 0.17 | AC44: 0.23 | AD44: 0.15 | AE44: 0.22 | AF44: 0.16 | AG44: 0.25 | AH44: 0.26 | AI44: 0.24 | AJ44: 0.21 | AK44: 0.24 | AL44: 0.23 | AM44: 0.21 | AN44: 0.21 | AO44: 0.2 | AP44: 0.19 | AQ44: 0.2 | AR44: 0.25 | AS44: 0.29 | AT44: 0.3 | AU44: 0.16 | AV44: 0.17 | AW44: 0.22 | AX44: 0.27 | AY44: 0.22 | AZ44: 0.27 | BA44: 0.06 | BB44: 0.08 | BC44: 0.19 | BD44: 0.16 | BE44: 0.02
A45: Sc | D45: 11.3 | K45: 11.9 | L45: 13.1 | M45: 5.77 | N45: 8.87 | O45: 12 | P45: 11.3 | Q45: 11.1 | R45: 11.1 | U45: 14.048316 | V45: 13.734141 | W45: 12 | X45: 11 | Y45: 11 | Z45: 11 | AA45: 11 | AB45: 12 | AC45: 11 | AI45: 13.1 | AJ45: 13 | AK45: 14.2 | AL45: 12.9 | AM45: 12 | AN45: 11.1 | AY45: 7 | AZ45: 13 | BB45: 8.5 | BC45: 2.8 | BD45: 2.9 | BE45: 1.9
A46: Zr | D46: 98 | K46: 147 | L46: 134 | N46: 117 | O46: 171 | P46: 181 | Q46: 145 | R46: 138 | T46: 158 | U46: 171.94225 | V46: 430.37054 | W46: 117 | X46: 93 | Y46: 120 | Z46: 85 | AA46: 136 | AB46: 83 | AC46: 135 | AI46: 165 | AJ46: 143 | AK46: 195 | AL46: 188 | AM46: 153 | AN46: 138 | AR46: 127 | AS46: 245 | AT46: 244 | AU46: 114 | AV46: 107 | AW46: 162 | AX46: 160 | AZ46: 80 | BA46: 249.9 | BB46: 153 | BC46: 102 | BD46: 107 | BE46: 45
A47: Th | D47: 2.95 | K47: 3.41 | L47: 3.18 | M47: 5.98 | N47: 4.49 | O47: 3.5 | P47: 3.93 | Q47: 3.55 | R47: 3.89 | U47: 3.0797362 | V47: 6.3548978 | W47: 3.45 | X47: 2.65 | Y47: 3.45 | Z47: 2.17 | AA47: 3.82 | AB47: 1.85 | AC47: 3.69 | AI47: 3.32 | AJ47: 2.72 | AK47: 3.55 | AL47: 2.75 | AM47: 2.84 | AN47: 3.89 | AZ47: 1.86 | BA47: 26.2 | BB47: 21.32 | BC47: 1.71 | BD47: 1.76 | BE47: 8.26
A48: U | D48: 1.1 | K48: 1.36 | L48: 1.28 | M48: 2.58 | N48: 1.7 | O48: 1.5 | P48: 1.45 | Q48: 1.46 | R48: 1.36 | U48: 0.96074794 | V48: 2.2617459 | W48: 1.13 | X48: 0.94 | Y48: 1.17 | Z48: 0.87 | AA48: 1.21 | AB48: 0.69 | AC48: 1.17 | AI48: 0.9 | AJ48: 0.86 | AK48: 1.17 | AL48: 0.86 | AM48: 0.91 | AN48: 1.36 | AZ48: 0.24 | BA48: 7.5 | BB48: 4.93 | BC48: 0.44 | BD48: 0.46 | BE48: 3.25
A49: Rb | D49: 35 | K49: 48 | L49: 37 | M49: 68 | N49: 51 | O49: 51 | P49: 50 | Q49: 47 | R49: 45 | T49: 39 | U49: 41.487086 | V49: 66.834494 | W49: 45 | X49: 34 | Y49: 49 | Z49: 36 | AA49: 29 | AB49: 32 | AC49: 28 | AI49: 31 | AJ49: 28 | AK49: 41 | AL49: 35 | AM49: 39 | AN49: 45 | AR49: 16 | AS49: 30 | AT49: 30 | AU49: 28 | AV49: 22 | AW49: 36 | AX49: 30 | AY49: 94.7 | AZ49: 21 | BA49: 313 | BB49: 157.3 | BC49: 62.2 | BD49: 34 | BE49: 149.9
A50: Sr | D50: 714 | K50: 434 | L50: 491 | M50: 448 | N50: 585 | O50: 403 | P50: 425 | Q50: 391 | R50: 722 | T50: 627 | U50: 558.23917 | V50: 383.57025 | W50: 547 | X50: 701 | Y50: 703 | Z50: 551 | AA50: 715 | AB50: 568 | AC50: 730 | AI50: 689 | AJ50: 889 | AK50: 522 | AL50: 518 | AM50: 521 | AN50: 722 | AR50: 769 | AS50: 510 | AT50: 530 | AU50: 609 | AV50: 815 | AW50: 508 | AX50: 548 | AY50: 266 | AZ50: 885 | BA50: 80.3 | BB50: 50 | BC50: 458 | BD50: 441 | BE50: 52
A51: Ba | D51: 564 | K51: 721 | L51: 705 | M51: 724 | N51: 627 | O51: 711 | P51: 743 | Q51: 754 | R51: 684 | T51: 641 | U51: 576.49567 | V51: 763.94489 | W51: 666 | X51: 538 | Y51: 668 | Z51: 601 | AA51: 716 | AB51: 563 | AC51: 711 | AI51: 629 | AJ51: 522 | AK51: 684 | AL51: 656 | AM51: 650 | AN51: 684 | AR51: 579 | AS51: 856 | AT51: 786 | AU51: 567 | AV51: 462 | AW51: 697 | AX51: 609 | AY51: 908 | AZ51: 674 | BA51: 539.6 | BB51: 498 | BC51: 676 | BD51: 339 | BE51: 124
A52: Cs | D52: 0.9 | K52: 1.7 | L52: 1 | M52: 2.2 | N52: 1.9 | O52: 1.7 | P52: 1.6 | Q52: 1.5 | R52: 2.2 | U52: 1.5329672 | V52: 2.0520236 | W52: 2 | X52: 1.4 | Y52: 2 | Z52: 0.9 | AA52: 0.8 | AB52: 1.3 | AC52: 0.7 | AI52: 0.5 | AJ52: 1 | AK52: 1.4 | AL52: 1.1 | AM52: 1.3 | AN52: 2.2 | AZ52: 0.3 | BA52: 9.8 | BB52: 2.3 | BC52: 1.23 | BD52: 1.14 | BE52: 2.82
A53: La | D53: 16.6 | K53: 22 | L53: 20.5 | M53: 71.1 | N53: 21 | O53: 20.5 | P53: 24.7 | Q53: 21.5 | R53: 20.8 | U53: 20.956151 | V53: 40.718166 | W53: 20.4 | X53: 16.8 | Y53: 25 | Z53: 16.2 | AA53: 24.9 | AB53: 20.6 | AC53: 23.9 | AI53: 25.1 | AJ53: 21.7 | AK53: 27.2 | AL53: 19.6 | AM53: 20.4 | AN53: 20.8 | AR53: 22 | AS53: 39 | AT53: 35 | AU53: 30 | AV53: 18 | AW53: 19 | AY53: 30 | AZ53: 15.9 | BA53: 29.4 | BB53: 21.94 | BC53: 13.74 | BD53: 14.65 | BE53: 5.87
A54: Lu | D54: 0.212 | K54: 0.23 | L54: 0.265 | M54: 0.459 | N54: 0.218 | O54: 0.283 | P54: 0.297 | Q54: 0.26 | R54: 0.202 | U54: 0.25684658 | V54: 0.58494807 | W54: 0.192 | X54: 0.176 | Y54: 0.2 | Z54: 0.168 | AA54: 0.183 | AB54: 0.194 | AC54: 0.18 | AI54: 0.223 | AJ54: 0.228 | AK54: 0.269 | AL54: 0.295 | AM54: 0.255 | AN54: 0.202 | AZ54: 0.175 | BA54: 0.4 | BB54: 0.28 | BC54: 0.13 | BD54: 0.14 | BE54: 0.31
A55: Hf | D55: 2.3 | K55: 3.3 | L55: 3.9 | M55: 6 | N55: 2.7 | O55: 3.9 | P55: 4.3 | Q55: 3.8 | R55: 3.3 | U55: 3.9448708 | V55: 8.5785183 | W55: 2.6 | X55: 2.2 | Y55: 2.7 | Z55: 1.9 | AA55: 2.9 | AB55: 1.8 | AC55: 3 | AI55: 3.7 | AJ55: 3.2 | AK55: 4.2 | AL55: 3.7 | AM55: 3.3 | AN55: 3.3 | AZ55: 2 | BA55: 7.3 | BB55: 4.75 | BC55: 2.86 | BD55: 2.96 | BE55: 2.73
A56: Y | D56: 12 | K56: 14 | L56: 16 | M56: 24 | N56: 13 | O56: 17 | P56: 16 | Q56: 16 | R56: 11 | T56: 18 | U56: 18.815112 | V56: 45.82648 | W56: 13.7 | X56: 11.7 | Y56: 13.6 | Z56: 11.6 | AA56: 13.9 | AB56: 15.2 | AC56: 12.8 | AI56: 16 | AJ56: 15 | AK56: 18 | AL56: 16 | AM56: 16 | AN56: 11 | AR56: 14 | AS56: 25 | AT56: 24 | AU56: 14 | AV56: 15 | AW56: 18 | AX56: 16 | AY56: 23.9 | AZ56: 11.8 | BA56: 28.3 | BB56: 17.08 | BC56: 7.58 | BD56: 7.7 | BE56: 23.16
A57: Nb | D57: 4 | K57: 5.3 | L57: 7.9 | M57: 16.3 | N57: 7.5 | O57: 8.3 | P57: 6.8 | Q57: 6.1 | R57: 6.2 | T57: 6 | U57: 1.4541099 | V57: 2.7771629 | W57: 4.8 | X57: 3.8 | Y57: 5.3 | Z57: 3.1 | AA57: 5.9 | AB57: 2.9 | AC57: 5.8 | AI57: 6.4 | AJ57: 5.7 | AK57: 9.1 | AL57: 6.9 | AM57: 6.5 | AN57: 6.2 | AR57: 7 | AS57: 12 | AT57: 12 | AU57: 5 | AV57: 5 | AW57: 8 | AX57: 10.8 | AY57: 19.9 | AZ57: 2.8 | BA57: 8.2 | BB57: 5.14 | BC57: 3.76 | BD57: 3.98 | BE57: 3.85
A58: Zn | D58: 57 | K58: 62 | L58: 63 | M58: 64 | N58: 53 | O58: 72 | P58: 59 | Q58: 53 | R58: 70 | U58: 65.718789 | V58: 105.42444 | W58: 67 | X58: 65 | Y58: 66 | Z58: 63 | AA58: 68 | AB58: 69 | AC58: 77 | AI58: 63 | AJ58: 61 | AK58: 60 | AL58: 77 | AM58: 74 | AN58: 70 | AR58: 77 | AS58: 74 | AT58: 74 | AU58: 62 | AV58: 62 | AW58: 75 | AX58: 74 | AY58: 60 | AZ58: 67 | BA58: 11.7 | BB58: 41 | BC58: 52 | BD58: 47 | BE58: 16
A59: Cu | D59: 16 | K59: 25 | L59: 25 | M59: 3 | N59: 16 | O59: 30 | P59: 20 | Q59: 20 | R59: 11 | U59: 16.612119 | V59: 15.935995 | W59: 9 | X59: 16 | Y59: 11 | Z59: 20 | AA59: 12 | AB59: 16 | AC59: 11 | AI59: 15 | AJ59: 23 | AK59: 21 | AL59: 18 | AM59: 22 | AN59: 11 | AR59: 33 | AS59: 32 | AT59: 27 | AU59: 8 | AV59: 12 | AW59: 22 | AX59: 29 | AY59: 3 | AZ59: 15 | BA59: 27.9 | BB59: 26 | BC59: 18 | BD59: 7.3 | BE59: 22

Sheet R^2
A1: SiO2 as differentiation parameter
A2: Correlation coefficient R^2
A3: Tzirate with Granite 1
A4: Element | B4: R^2 | D4: Elements in each R^2 category | I4: Percentage of elements in each R^2 category
A5: Strong | D5: >0.1 | E5: >0.3 | F5: >0.5 | G5: >0.7 | I5: >0.1 | J5: >0.3 | K5: >0.5 | L5: >0.7
A6: Al2O3 | B6: =RSQ(Data!D$3:JY$3,Data!D4:JY4) -> 0.78492831 | D6: =IF(B6>0.1,B6,"") -> 0.78492831 | E6: =IF(B6>0.3,B6,"") -> 0.78492831 | F6: =IF(B6>0.5,B6,"") -> 0.78492831 | G6: =IF(B6>0.7,B6,"") -> 0.78492831 | I6: =COUNTIF(D6:D29,">0.1") -> 21 | J6: =COUNTIF(E6:E29,">0.1") -> 13 | K6: =COUNTIF(F6:F29,">0.1") -> 9 | L6: =COUNTIF(G6:G29,">0.1") -> 8
A7: Fe2O3(T) | B7: =RSQ(Data!D$3:JY$3,Data!D5:JY5) -> 0.89451212 | D7: =IF(B7>0.1,B7,"") -> 0.89451212 | E7: =IF(B7>0.3,B7,"") -> 0.89451212 | F7: =IF(B7>0.5,B7,"") -> 0.89451212 | G7: =IF(B7>0.7,B7,"") -> 0.89451212 | I7: % | J7: % | K7: % | L7: %
A8: MnO | B8: =RSQ(Data!D$3:JY$3,Data!D6:JY6) -> 0.73887316 | D8: =IF(B8>0.1,B8,"") -> 0.73887316 | E8: =IF(B8>0.3,B8,"") -> 0.73887316 | F8: =IF(B8>0.5,B8,"") -> 0.73887316 | G8: =IF(B8>0.7,B8,"") -> 0.73887316 | I8: =(I6/24)*100 -> 87.5 | J8: =(J6/24)*100 -> 54.166667 | K8: =(K6/24)*100 -> 37.5 | L8: =(L6/24)*100 -> 33.333333
A9: MgO | B9: =RSQ(Data!D$3:JY$3,Data!D7:JY7) -> 0.81877519 | D9: =IF(B9>0.1,B9,"") -> 0.81877519 | E9: =IF(B9>0.3,B9,"") -> 0.81877519 | F9: =IF(B9>0.5,B9,"") -> 0.81877519 | G9: =IF(B9>0.7,B9,"") -> 0.81877519
A10: CaO | B10: =RSQ(Data!D$3:JY$3,Data!D8:JY8) -> 0.90526841 | D10: =IF(B10>0.1,B10,"") -> 0.90526841 | E10: =IF(B10>0.3,B10,"") -> 0.90526841 | F10: =IF(B10>0.5,B10,"") -> 0.90526841 | G10: =IF(B10>0.7,B10,"") -> 0.90526841
A11: Na2O | B11: =RSQ(Data!D$3:JY$3,Data!D9:JY9) -> 0.013052448 | D11: =IF(B11>0.1,B11,"") | E11: =IF(B11>0.3,B11,"") | F11: =IF(B11>0.5,B11,"") | G11: =IF(B11>0.7,B11,"")
A12: K2O | B12: =RSQ(Data!D$3:JY$3,Data!D10:JY10) -> 0.4549672 | D12: =IF(B12>0.1,B12,"") -> 0.4549672 | E12: =IF(B12>0.3,B12,"") -> 0.4549672 | F12: =IF(B12>0.5,B12,"") | G12: =IF(B12>0.7,B12,"")
A13: TiO2 | B13: =RSQ(Data!D$3:JY$3,Data!D11:JY11) -> 0.82605547 | D13: =IF(B13>0.1,B13,"") -> 0.82605547 | E13: =IF(B13>0.3,B13,"") -> 0.82605547 | F13: =IF(B13>0.5,B13,"") -> 0.82605547 | G13: =IF(B13>0.7,B13,"") -> 0.82605547 | I13: Average of R^2 for elements with R^2 > 0.7
A14: P2O5 | B14: =RSQ(Data!D$3:JY$3,Data!D12:JY12) -> 0.30321159 | D14: =IF(B14>0.1,B14,"") -> 0.30321159 | E14: =IF(B14>0.3,B14,"") -> 0.30321159 | F14: =IF(B14>0.5,B14,"") | G14: =IF(B14>0.7,B14,"") | K14: =AVERAGE(G6:G29) -> 0.82573393
A15: Sc | B15: =RSQ(Data!D$3:JY$3,Data!D13:JY13) -> 0.86879538 | D15: =IF(B15>0.1,B15,"") -> 0.86879538 | E15: =IF(B15>0.3,B15,"") -> 0.86879538 | F15: =IF(B15>0.5,B15,"") -> 0.86879538 | G15: =IF(B15>0.7,B15,"") -> 0.86879538
A16: Zr | B16: =RSQ(Data!D$3:JY$3,Data!D14:JY14) -> 0.00013763693 | D16: =IF(B16>0.1,B16,"") | E16: =IF(B16>0.3,B16,"") | F16: =IF(B16>0.5,B16,"") | G16: =IF(B16>0.7,B16,"")
A17: Th | B17: =RSQ(Data!D$3:JY$3,Data!D15:JY15) -> 0.26598247 | D17: =IF(B17>0.1,B17,"") -> 0.26598247 | E17: =IF(B17>0.3,B17,"") | F17: =IF(B17>0.5,B17,"") | G17: =IF(B17>0.7,B17,"")
A18: U | B18: =RSQ(Data!D$3:JY$3,Data!D16:JY16) -> 0.29620664 | D18: =IF(B18>0.1,B18,"") -> 0.29620664 | E18: =IF(B18>0.3,B18,"") | F18: =IF(B18>0.5,B18,"") | G18: =IF(B18>0.7,B18,"")
A19: Rb | B19: =RSQ(Data!D$3:JY$3,Data!D17:JY17) -> 0.39910717 | D19: =IF(B19>0.1,B19,"") -> 0.39910717 | E19: =IF(B19>0.3,B19,"") -> 0.39910717 | F19: =IF(B19>0.5,B19,"") | G19: =IF(B19>0.7,B19,"")
A20: Sr | B20: =RSQ(Data!D$3:JY$3,Data!D18:JY18) -> 0.6599001 | D20: =IF(B20>0.1,B20,"") -> 0.6599001 | E20: =IF(B20>0.3,B20,"") -> 0.6599001 | F20: =IF(B20>0.5,B20,"") -> 0.6599001 | G20: =IF(B20>0.7,B20,"")
A21: Ba | B21: =RSQ(Data!D$3:JY$3,Data!D19:JY19) -> 0.41169777 | D21: =IF(B21>0.1,B21,"") -> 0.41169777 | E21: =IF(B21>0.3,B21,"") -> 0.41169777 | F21: =IF(B21>0.5,B21,"") | G21: =IF(B21>0.7,B21,"")
A22: Cs | B22: =RSQ(Data!D$3:JY$3,Data!D20:JY20) -> 0.19485737 | D22: =IF(B22>0.1,B22,"") -> 0.19485737 | E22: =IF(B22>0.3,B22,"") | F22: =IF(B22>0.5,B22,"") | G22: =IF(B22>0.7,B22,"")
A23: La | B23: =RSQ(Data!D$3:JY$3,Data!D21:JY21) -> 0.2037904 | D23: =IF(B23>0.1,B23,"") -> 0.2037904 | E23: =IF(B23>0.3,B23,"") | F23: =IF(B23>0.5,B23,"") | G23: =IF(B23>0.7,B23,"")
A24: Lu | B24: =RSQ(Data!D$3:JY$3,Data!D22:JY22) -> 0.16785167 | D24: =IF(B24>0.1,B24,"") -> 0.16785167 | E24: =IF(B24>0.3,B24,"") | F24: =IF(B24>0.5,B24,"") | G24: =IF(B24>0.7,B24,"")
A25: Hf | B25: =RSQ(Data!D$3:JY$3,Data!D23:JY23) -> 0.21705097 | D25: =IF(B25>0.1,B25,"") -> 0.21705097 | E25: =IF(B25>0.3,B25,"") | F25: =IF(B25>0.5,B25,"") | G25: =IF(B25>0.7,B25,"")
A26: Y | B26: =RSQ(Data!D$3:JY$3,Data!D24:JY24) -> 0.10150231 | D26: =IF(B26>0.1,B26,"") -> 0.10150231 | E26: =IF(B26>0.3,B26,"") | F26: =IF(B26>0.5,B26,"") | G26: =IF(B26>0.7,B26,"")
A27: Nb | B27: =RSQ(Data!D$3:JY$3,Data!D25:JY25) -> 0.00093642122 | D27: =IF(B27>0.1,B27,"") | E27: =IF(B27>0.3,B27,"") | F27: =IF(B27>0.5,B27,"") | G27: =IF(B27>0.7,B27,"")
A28: Zn | B28: =RSQ(Data!D$3:JY$3,Data!D26:JY26) -> 0.76866342 | D28: =IF(B28>0.1,B28,"") -> 0.76866342 | E28: =IF(B28>0.3,B28,"") -> 0.76866342 | F28: =IF(B28>0.5,B28,"") -> 0.76866342 | G28: =IF(B28>0.7,B28,"") -> 0.76866342 | I28: >0.1 | J28: >0.3 | K28: >0.5 | L28: >0.7
A29: Cu | B29: =RSQ(Data!D$3:JY$3,Data!D27:JY27) -> 0.20932828 | D29: =IF(B29>0.1,B29,"") -> 0.20932828 | E29: =IF(B29>0.3,B29,"") | F29: =IF(B29>0.5,B29,"") | G29: =IF(B29>0.7,B29,"") | I29: =COUNTIF(D28:D29,">0.1") -> 2 | J29: =COUNTIF(E28:E29,">0.1") -> 1 | K29: =COUNTIF(F28:F29,">0.1") -> 1 | L29: =COUNTIF(G28:G29,">0.1") -> 1
A33: Tzirate with Granite 2
A35: Element | B35: R^2 | D35: Elements in each R^2 category | I35: Percentage of elements in each R^2 category
A36: Strong | D36: >0.1 | E36: >0.3 | F36: >0.5 | G36: >0.7 | I36: >0.1 | J36: >0.3 | K36: >0.5 | L36: >0.7
A37: Al2O3 | B37: 0.54377867 | D37: 0.54377867 | E37: 0.54377867 | F37: 0.54377867 | I37: 20 | J37: 16 | K37: 12 | L37: 4
A38: Fe2O3(T) | B38: 0.68288668 | D38: 0.68288668 | E38: 0.68288668 | F38: 0.68288668 | I38: % | J38: % | K38: % | L38: %
A39: MnO | B39: 0.4539903 | D39: 0.4539903 | E39: 0.4539903 | I39: 83.333333 | J39: 66.666667 | K39: 50 | L39: 16.666667
A40: MgO | B40: 0.50514999 | D40: 0.50514999 | E40: 0.50514999 | F40: 0.50514999
A41: CaO | B41: 0.8657842 | D41: 0.8657842 | E41: 0.8657842 | F41: 0.8657842 | G41: 0.8657842
A42: Na2O | B42: 0.054133336
A43: K2O | B43: 0.48386278 | D43: 0.48386278 | E43: 0.48386278
A44: TiO2 | B44: 0.60092484 | D44: 0.60092484 | E44: 0.60092484 | F44: 0.60092484 | I44: Average of R^2 for elements with R^2 > 0.7
A45: P2O5 | B45: 0.19619875 | D45: 0.19619875 | K45: 0.75510576
A46: Sc | B46: 0.70973192 | D46: 0.70973192 | E46: 0.70973192 | F46: 0.70973192 | G46: 0.70973192
A47: Zr | B47: 0.18958516 | D47: 0.18958516
A48: Th | B48: 0.61755203 | D48: 0.61755203 | E48: 0.61755203 | F48: 0.61755203
A49: U | B49: 0.72442098 | D49: 0.72442098 | E49: 0.72442098 | F49: 0.72442098 | G49: 0.72442098
A50: Rb | B50: 0.65294413 | D50: 0.65294413 | E50: 0.65294413 | F50: 0.65294413
A51: Sr | B51: 0.72048595 | D51: 0.72048595 | E51: 0.72048595 | F51: 0.72048595 | G51: 0.72048595
A52: Ba | B52: 0.016171772
A53: Cs | B53: 0.26699825 | D53: 0.26699825
A54: La | B54: 0.0020462279
A55: Lu | B55: 0.30625312 | D55: 0.30625312 | E55: 0.30625312
A56: Hf | B56: 0.69384778 | D56: 0.69384778 | E56: 0.69384778 | F56: 0.69384778
A57: Y | B57: 0.17892922 | D57: 0.17892922
A58: Nb | B58: 0.07755887
A59: Zn | B59: 0.59996524 | D59: 0.59996524 | E59: 0.59996524 | F59: 0.59996524 | I59: >0.1 | J59: >0.3 | K59: >0.5 | L59: >0.7
A60: Cu | B60: 0.36542689 | D60: 0.36542689 | E60: 0.36542689 | I60: 2 | J60: 2 | K60: 1 | L60: 0
A62: Tzirate with Granite 3
A64: Element | B64: R^2 | D64: Elements in each R^2 category | I64: Percentage of elements within each R^2 category
A65: Strong | D65: >0.1 | E65: >0.3 | F65: >0.5 | G65: >0.7 | I65: >0.1 | J65: >0.3 | K65: >0.5 | L65: >0.7
A66: Al2O3 | B66: 0.48734925 | D66: 0.48734925 | E66: 0.48734925 | I66: 12 | J66: 9 | K66: 5 | L66: 3
A67: Fe2O3(T) | B67: 0.77537868 | D67: 0.77537868 | E67: 0.77537868 | F67: 0.77537868 | G67: 0.77537868 | I67: % | J67: % | K67: % | L67: %
A68: MnO | B68: 0.37188637 | D68: 0.37188637 | E68: 0.37188637 | I68: 50 | J68: 37.5 | K68: 20.833333 | L68: 12.5
A69: MgO | B69: 0.63443158 | D69: 0.63443158 | E69: 0.63443158 | F69: 0.63443158
A70: CaO | B70: 0.80141376 | D70: 0.80141376 | E70: 0.80141376 | F70: 0.80141376 | G70: 0.80141376
A71: Na2O | B71: 0.043033094
A72: K2O | B72: 0.1734396 | D72: 0.1734396
A73: TiO2 | B73: 0.69859707 | D73: 0.69859707 | E73: 0.69859707 | F73: 0.69859707 | I73: Average of R^2 for elements with R^2 > 0.7
A74: P2O5 | B74: 0.026585164 | K74: 0.82628085
A75: Sc | B75: 0.90205012 | D75: 0.90205012 | E75: 0.90205012 | F75: 0.90205012 | G75: 0.90205012
A76: Zr | B76: 0.0010416739
A77: Th | B77: 0.0030877853
A78: U | B78: 0.0011379096
A79: Rb | B79: 0.27171224 | D79: 0.27171224
A80: Sr | B80: 0.36929236 | D80: 0.36929236 | E80: 0.36929236
A81: Ba | B81: 0.014376882
A82: Cs | B82: 0.072187758
A83: La | B83: 0.060661617
A84: Lu | B84: 0.10465668 | D84: 0.10465668
A85: Hf | B85: 0.071151451
A86: Y | B86: 0.077609336
A87: Nb | B87: 0.0030629667
A88: Zn | B88: 0.46122853 | D88: 0.46122853 | E88: 0.46122853 | I88: >0.1 | J88: >0.3 | K88: >0.5 | L88: >0.7
A89: Cu | B89: 0.048087966 | I89: 1 | J89: 1 | K89: 0 | L89: 0
A92: Tzirate with Granite 4
A93: Element | B93: R^2 | D93: Elements in each R^2 category | I93: Percentage of elements in each R^2 category
A94: Strong | D94: >0.1 | E94: >0.3 | F94: >0.5 | G94: >0.7 | I94: >0.1 | J94: >0.3 | K94: >0.5 | L94: >0.7
A95: Al2O3 | B95: 0.46493866 | D95: 0.46493866 | E95: 0.46493866 | I95: 14 | J95: 10 | K95: 6 | L95: 4
A96: Fe2O3(T) | B96: 0.77531524 | D96: 0.77531524 | E96: 0.77531524 | F96: 0.77531524 | G96: 0.77531524 | I96: % | J96: % | K96: % | L96: %
A97: MnO | B97: 0.36791994 | D97: 0.36791994 | E97: 0.36791994 | I97: 58.333333 | J97: 41.666667 | K97: 25 | L97: 16.666667
A98: MgO | B98: 0.67021982 | D98: 0.67021982 | E98: 0.67021982 | F98: 0.67021982
A99: CaO | B99: 0.79350493 | D99: 0.79350493 | E99: 0.79350493 | F99: 0.79350493 | G99: 0.79350493
A100: Na2O | B100: 0.25582834 | D100: 0.25582834
A101: K2O | B101: 0.020224166
A102: TiO2 | B102: 0.73721307 | D102: 0.73721307 | E102: 0.73721307 | F102: 0.73721307 | G102: 0.73721307 | I102: Average of R^2 for elements with R^2 > 0.7
A103: P2O5 | B103: 0.051914001 | K103: 0.81090683
A104: Sc | B104: 0.93759406 | D104: 0.93759406 | E104: 0.93759406 | F104: 0.93759406 | G104: 0.93759406
A105: Zr | B105: 0.00044963737
A106: Th | B106: 0.00040933625
A107: U | B107: 0.0027892675
A108: Rb | B108: 0.0091112441
...

Sheet evaluation
A2: % | B2: Promedio
A3: 10 | B3: 0.1
A4: =A3+10 -> 20 | B4: =B3+0.1 -> 0.2 | F4: Tzirate-Granite 1
A5: =A4+10 -> 30 | B5: =B4+0.1 -> 0.3
A6: =A5+10 -> 40 | B6: =B5+0.1 -> 0.4
A7: =A6+10 -> 50 | B7: =B6+0.1 -> 0.5
A8: =A7+10 -> 60 | B8: =B7+0.1 -> 0.6
A9: =A8+10 -> 70 | B9: =B8+0.1 -> 0.7
A10: =A9+10 -> 80 | B10: =B9+0.1 -> 0.8
A11: =A10+10 -> 90 | B11: =B10+0.1 -> 0.9
A12: =A11+10 -> 100 | B12: =B11+0.1 -> 1
A22: % | B22: Promedio
A23: 10 | B23: 0.1
A24: =A23+10 -> 20 | B24: =B23+0.1 -> 0.2 | F24: Tzirate-Granite 2
A25: =A24+10 -> 30 | B25: =B24+0.1 -> 0.3
A26: =A25+10 -> 40 | B26: =B25+0.1 -> 0.4
A27: =A26+10 -> 50 | B27: =B26+0.1 -> 0.5
A28: =A27+10 -> 60 | B28: =B27+0.1 -> 0.6
A29: =A28+10 -> 70 | B29: =B28+0.1 -> 0.7
A30: =A29+10 -> 80 | B30: =B29+0.1 -> 0.8
A31: =A30+10 -> 90 | B31: =B30+0.1 -> 0.9
A32: =A31+10 -> 100 | B32: =B31+0.1 -> 1
A44: % | B44: Promedio
A45: 10 | B45: 0.1
A46: =A45+10 -> 20 | B46: =B45+0.1 -> 0.2 | F46: Tzirate-Granite 3
A47: =A46+10 -> 30 | B47: =B46+0.1 -> 0.3
A48: =A47+10 -> 40 | B48: =B47+0.1 -> 0.4
A49: =A48+10 -> 50 | B49: =B48+0.1 -> 0.5
A50: =A49+10 -> 60 | B50: =B49+0.1 -> 0.6
A51: =A50+10 -> 70 | B51: =B50+0.1 -> 0.7
A52: =A51+10 -> 80 | B52: =B51+0.1 -> 0.8
A53: =A52+10 -> 90 | B53: =B52+0.1 -> 0.9
A54: =A53+10 -> 100 | B54: =B53+0.1 -> 1
A66: % | B66: Promedio
A67: 10 | B67: 0.1
A68: =A67+10 -> 20 | B68: =B67+0.1 -> 0.2 | F68: Tzirate-Granite 4
A69: =A68+10 -> 30 | B69: =B68+0.1 -> 0.3
A70: =A69+10 -> 40 | B70: =B69+0.1 -> 0.4
A71: =A70+10 -> 50 | B71: =B70+0.1 -> 0.5
A72: =A71+10 -> 60 | B72: =B71+0.1 -> 0.6
A73: =A72+10 -> 70 | B73: =B72+0.1 -> 0.7
A74: =A73+10 -> 80 | B74: =B73+0.1 -> 0.8
A75: =A74+10 -> 90 | B75: =B74+0.1 -> 0.9
A76: =A75+10 -> 100 | B76: =B75+0.1 -> 1
A88: % | B88: Promedio
A89: 10 | B89: 0.1
A90: =A89+10 -> 20 | B90: =B89+0.1 -> 0.2 | F90: Tzirate-Granite 5
A91: =A90+10 -> 30 | B91: =B90+0.1 -> 0.3
A92: =A91+10 -> 40 | B92: =B91+0.1 -> 0.4
A93: =A92+10 -> 50 | B93: =B92+0.1 -> 0.5
A94: =A93+10 -> 60 | B94: =B93+0.1 -> 0.6
A95: =A94+10 -> 70 | B95: =B94+0.1 -> 0.7
A96: =A95+10 -> 80 | B96: =B95+0.1 -> 0.8
A97: =A96+10 -> 90 | B97: =B96+0.1 -> 0.9
A98: =A97+10 -> 100 | B98: =B97+0.1 -> 1
A109: % | B109: Promedio
A110: 10 | B110: 0.1
A111: =A110+10 -> 20 | B111: =B110+0.1 -> 0.2 | F111: Zacapu-Granite 1
A112: =A111+10 -> 30 | B112: =B111+0.1 -> 0.3
A113: =A112+10 -> 40 | B113: =B112+0.1 -> 0.4
A114: =A113+10 -> 50 | B114: =B113+0.1 -> 0.5
A115: =A114+10 -> 60 | B115: =B114+0.1 -> 0.6
A116: =A115+10 -> 70 | B116: =B115+0.1 -> 0.7
A117: =A116+10 -> 80 | B117: =B116+0.1 -> 0.8
A118: =A117+10 -> 90 | B118: =B117+0.1 -> 0.9
A119: =A118+10 -> 100 | B119: =B118+0.1 -> 1
A130: % | B130: Promedio
A131: 10 | B131: 0.1
A132: =A131+10 -> 20 | B132: =B131+0.1 -> 0.2 | F132: Zacapu-Granite 2
A133: =A132+10 -> 30 | B133: =B132+0.1 -> 0.3
A134: =A133+10 -> 40 | B134: =B133+0.1 -> 0.4
A135: =A134+10 -> 50 | B135: =B134+0.1 -> 0.5
A136: =A135+10 -> 60 | B136: =B135+0.1 -> 0.6
A137: =A136+10 -> 70 | B137: =B136+0.1 -> 0.7
A138: =A137+10 -> 80 | B138: =B137+0.1 -> 0.8
A139: =A138+10 -> 90 | B139: =B138+0.1 -> 0.9
A140: =A139+10 -> 100 | B140: =B139+0.1 -> 1
A151: % | B151: Promedio
A152: 10 | B152: 0.1
A153: =A152+10 -> 20 | B153: =B152+0.1 -> 0.2 | F153: Zacapu-Granite 3
A154: =A153+10 -> 30 | B154: =B153+0.1 -> 0.3
A155: =A154+10 -> 40 | B155: =B154+0.1 -> 0.4
A156: =A155+10 -> 50 | B156: =B155+0.1 -> 0.5
A157: =A156+10 -> 60 | B157: =B156+0.1 -> 0.6
A158: =A157+10 -> 70 | B158: =B157+0.1 -> 0.7
A159: =A158+10 -> 80 | B159: =B158+0.1 -> 0.8
A160: =A159+10 -> 90 | B160: =B159+0.1 -> 0.9
A161: =A160+10 -> 100 | B161: =B160+0.1 -> 1
A172: % | B172: Promedio
A173: 10 | B173: 0.1
A174: =A173+10 -> 20 | B174: =B173+0.1 -> 0.2 | F174: Zacapu-Granite 4
A175: =A174+10 -> 30 | B175: =B174+0.1 -> 0.3
A176: =A175+10 -> 40 | B176: =B175+0.1 -> 0.4
A177: =A176+10 -> 50 | B177: =B176+0.1 -> 0.5
A178: =A177+10 -> 60 | B178: =B177+0.1 -> 0.6
A179: =A178+10 -> 70 | B179: =B178+0.1 -> 0.7
A180: =A179+10 -> 80 | B180: =B179+0.1 -> 0.8
A181: =A180+10 -> 90 | B181: =B180+0.1 -> 0.9
A182: =A181+10 -> 100 | B182: =B181+0.1 -> 1
A194: % | B194: Promedio
...

Sheet References
